BEGIN:VCALENDAR
VERSION:2.0
PRODID:-//Titirangi Rudolf Steiner School - ECPv4.8.1//NONSGML v1.0//EN
CALSCALE:GREGORIAN
METHOD:PUBLISH
X-WR-CALNAME:Titirangi Rudolf Steiner School
X-ORIGINAL-URL:https://titirangi.steiner.school.nz
X-WR-CALDESC:Events for Titirangi Rudolf Steiner School
BEGIN:VEVENT
DTSTART;TZID=Pacific/Auckland:20260521T093000
DTEND;TZID=Pacific/Auckland:20260521T120000
DTSTAMP:20260424T153532
CREATED:20260422T225512Z
LAST-MODIFIED:20260422T225715Z
UID:7085-1779355800-1779364800@titirangi.steiner.school.nz
SUMMARY:Open Day: Main Lesson
DESCRIPTION:Join our Main Lesson Open day to visit our classrooms and experience our school in action. Enrolled families are also welcome to join to learn about education through the lower\, middle and upper school. Registration essential\, email enrol@trss.nz \n
URL:https://titirangi.steiner.school.nz/event/open-day-main-lesson/
ATTACH;FMTTYPE=image/jpeg:https://titirangi.steiner.school.nz/wp-content/uploads/2026/04/Open-Day-Main-Lesson-Poster-2026.jpg
END:VEVENT
END:VCALENDAR